Package: idpr Version: 1.19.0 Command: /Library/Frameworks/R.framework/Resources/bin/R CMD INSTALL idpr StartedAt: 2025-10-07 15:08:49 -0400 (Tue, 07 Oct 2025) EndedAt: 2025-10-07 15:08:52 -0400 (Tue, 07 Oct 2025) EllapsedTime: 3.3 seconds RetCode: 0 Status: OK