Package: idpr Version: 1.19.0 Command: /Library/Frameworks/R.framework/Resources/bin/R CMD build --keep-empty-dirs --no-resave-data idpr StartedAt: 2025-10-07 16:44:59 -0400 (Tue, 07 Oct 2025) EndedAt: 2025-10-07 16:45:39 -0400 (Tue, 07 Oct 2025) EllapsedTime: 40.5 seconds RetCode: 0 Status: OK PackageFile: idpr_1.19.0.tar.gz PackageFileSize: 3.613 MiB