Package: idiogram Version: 1.87.0 Command: /home/biocbuild/bbs-3.23-bioc/R/bin/R CMD INSTALL idiogram StartedAt: 2025-11-03 15:28:48 -0500 (Mon, 03 Nov 2025) EndedAt: 2025-11-03 15:29:04 -0500 (Mon, 03 Nov 2025) EllapsedTime: 15.8 seconds RetCode: 0 Status: OK