Package: idiogram Version: 1.85.0 Command: /Library/Frameworks/R.framework/Resources/bin/R CMD INSTALL idiogram StartedAt: 2025-09-29 15:24:53 -0400 (Mon, 29 Sep 2025) EndedAt: 2025-09-29 15:25:15 -0400 (Mon, 29 Sep 2025) EllapsedTime: 22.8 seconds RetCode: 0 Status: OK