Package: ideal Version: 2.3.0 Command: /home/biocbuild/R/R/bin/R CMD INSTALL ideal StartedAt: 2025-10-16 22:18:23 -0000 (Thu, 16 Oct 2025) EndedAt: 2025-10-16 22:19:38 -0000 (Thu, 16 Oct 2025) EllapsedTime: 75.8 seconds RetCode: 0 Status: OK