Package: ideal Version: 2.3.0 Command: /home/biocbuild/R/R/bin/R CMD build --keep-empty-dirs --no-resave-data ideal StartedAt: 2025-10-17 01:58:42 -0000 (Fri, 17 Oct 2025) EndedAt: 2025-10-17 02:02:12 -0000 (Fri, 17 Oct 2025) EllapsedTime: 210.1 seconds RetCode: 0 Status: OK PackageFile: ideal_2.3.0.tar.gz PackageFileSize: 5.421 MiB