Package: ideal Version: 2.3.0 Command: /home/biocbuild/bbs-3.22-bioc/R/bin/R CMD check --install=check:ideal.install-out.txt --library=/home/biocbuild/bbs-3.22-bioc/R/site-library --timings ideal_2.3.0.tar.gz StartedAt: 2025-10-18 00:52:43 -0400 (Sat, 18 Oct 2025) EndedAt: 2025-10-18 01:01:29 -0400 (Sat, 18 Oct 2025) EllapsedTime: 525.5 seconds RetCode: 0 Status: OK CheckDir: ideal.Rcheck Warnings: 0