Package: ideal Version: 2.5.0 Command: /home/biocbuild/bbs-3.23-bioc/R/bin/R CMD INSTALL ideal StartedAt: 2025-11-05 15:56:28 -0500 (Wed, 05 Nov 2025) EndedAt: 2025-11-05 15:57:24 -0500 (Wed, 05 Nov 2025) EllapsedTime: 56.1 seconds RetCode: 0 Status: OK