Package: ideal Version: 2.5.0 Command: /home/biocbuild/bbs-3.23-bioc/R/bin/R CMD build --keep-empty-dirs --no-resave-data ideal StartedAt: 2025-11-05 18:11:52 -0500 (Wed, 05 Nov 2025) EndedAt: 2025-11-05 18:14:46 -0500 (Wed, 05 Nov 2025) EllapsedTime: 174.2 seconds RetCode: 0 Status: OK PackageFile: ideal_2.5.0.tar.gz PackageFileSize: 5.667 MiB