Package: ideal Version: 2.3.0 Command: /Library/Frameworks/R.framework/Resources/bin/R CMD INSTALL ideal StartedAt: 2025-09-29 15:43:31 -0400 (Mon, 29 Sep 2025) EndedAt: 2025-09-29 15:44:49 -0400 (Mon, 29 Sep 2025) EllapsedTime: 78.4 seconds RetCode: 0 Status: OK