Package: ibh Version: 1.57.0 Command: /home/biocbuild/R/R/bin/R CMD INSTALL ibh StartedAt: 2025-10-23 20:16:42 -0000 (Thu, 23 Oct 2025) EndedAt: 2025-10-23 20:16:59 -0000 (Thu, 23 Oct 2025) EllapsedTime: 16.1 seconds RetCode: 0 Status: OK