Package: ibh Version: 1.57.0 Command: /home/biocbuild/R/R/bin/R CMD build --keep-empty-dirs --no-resave-data ibh StartedAt: 2025-10-21 00:32:44 -0000 (Tue, 21 Oct 2025) EndedAt: 2025-10-21 00:32:51 -0000 (Tue, 21 Oct 2025) EllapsedTime: 7.0 seconds RetCode: 0 Status: OK PackageFile: ibh_1.57.0.tar.gz PackageFileSize: 120.8 KiB