Package: ibh Version: 1.57.0 Command: /home/biocbuild/bbs-3.22-bioc/R/bin/R CMD check --install=check:ibh.install-out.txt --library=/home/biocbuild/bbs-3.22-bioc/R/site-library --timings ibh_1.57.0.tar.gz StartedAt: 2025-10-15 00:52:42 -0400 (Wed, 15 Oct 2025) EndedAt: 2025-10-15 00:53:02 -0400 (Wed, 15 Oct 2025) EllapsedTime: 20.0 seconds RetCode: 0 Status: OK CheckDir: ibh.Rcheck Warnings: 0