Package: ibh Version: 1.57.0 Maintainer: Kircicegi Korkmaz MaintainerEmail: e102771 at ceng.metu.edu.tr git_url: https://git.bioconductor.org/packages/ibh git_branch: devel git_last_commit: e0b39c1 git_last_commit_date: 2025-04-15 10:02:24 -0400 (Tue, 15 Apr 2025)