Package: iasva Version: 1.27.0 Command: /home/biocbuild/bbs-3.22-bioc/R/bin/R CMD INSTALL iasva StartedAt: 2025-10-24 15:29:06 -0400 (Fri, 24 Oct 2025) EndedAt: 2025-10-24 15:29:26 -0400 (Fri, 24 Oct 2025) EllapsedTime: 19.4 seconds RetCode: 0 Status: OK