Package: iasva Version: 1.27.0 Command: /home/biocbuild/bbs-3.22-bioc/R/bin/R CMD build --keep-empty-dirs --no-resave-data --md5 iasva StartedAt: 2025-10-27 18:10:29 -0400 (Mon, 27 Oct 2025) EndedAt: 2025-10-27 18:11:18 -0400 (Mon, 27 Oct 2025) EllapsedTime: 49.0 seconds RetCode: 0 Status: OK PackageFile: iasva_1.27.0.tar.gz PackageFileSize: 1.141 MiB