Package: iSeq Version: 1.61.0 Command: /home/biocbuild/R/R/bin/R CMD build --keep-empty-dirs --no-resave-data iSeq StartedAt: 2025-10-14 01:12:07 -0000 (Tue, 14 Oct 2025) EndedAt: 2025-10-14 01:12:32 -0000 (Tue, 14 Oct 2025) EllapsedTime: 25.0 seconds RetCode: 0 Status: OK PackageFile: iSeq_1.61.0.tar.gz PackageFileSize: 1.317 MiB