Package: iSeq Version: 1.61.0 Command: chmod a+r iSeq -R && F:\biocbuild\bbs-3.22-bioc\R\bin\R.exe CMD build --keep-empty-dirs --no-resave-data iSeq StartedAt: 2025-08-14 21:01:11 -0400 (Thu, 14 Aug 2025) EndedAt: 2025-08-14 21:01:48 -0400 (Thu, 14 Aug 2025) EllapsedTime: 36.7 seconds RetCode: 0 Status: OK PackageFile: iSeq_1.61.0.tar.gz PackageFileSize: 1.201 MiB