Package: iSeq Version: 1.61.0 Command: /home/biocbuild/bbs-3.22-bioc/R/bin/R CMD check --install=check:iSeq.install-out.txt --library=/home/biocbuild/bbs-3.22-bioc/R/site-library --timings iSeq_1.61.0.tar.gz StartedAt: 2025-10-07 01:01:46 -0400 (Tue, 07 Oct 2025) EndedAt: 2025-10-07 01:02:30 -0400 (Tue, 07 Oct 2025) EllapsedTime: 44.0 seconds RetCode: 0 Status: OK CheckDir: iSeq.Rcheck Warnings: 0