Package: iSeq Version: 1.63.0 Command: /home/biocbuild/bbs-3.23-bioc/R/bin/R CMD INSTALL iSeq StartedAt: 2025-11-07 15:03:35 -0500 (Fri, 07 Nov 2025) EndedAt: 2025-11-07 15:04:01 -0500 (Fri, 07 Nov 2025) EllapsedTime: 25.6 seconds RetCode: 0 Status: OK