Package: iSeq Version: 1.63.0 Command: /home/biocbuild/bbs-3.23-bioc/R/bin/R CMD check --install=check:iSeq.install-out.txt --library=/home/biocbuild/bbs-3.23-bioc/R/site-library --timings iSeq_1.63.0.tar.gz StartedAt: 2025-11-08 00:42:29 -0500 (Sat, 08 Nov 2025) EndedAt: 2025-11-08 00:43:11 -0500 (Sat, 08 Nov 2025) EllapsedTime: 42.0 seconds RetCode: 0 Status: OK CheckDir: iSeq.Rcheck Warnings: 0