Package: iSEEu Version: 1.22.0 Command: /Library/Frameworks/R.framework/Resources/bin/R CMD INSTALL iSEEu StartedAt: 2025-10-29 22:10:58 -0400 (Wed, 29 Oct 2025) EndedAt: 2025-10-29 22:11:47 -0400 (Wed, 29 Oct 2025) EllapsedTime: 49.0 seconds RetCode: 0 Status: OK