Package: iSEEu Version: 1.21.0 Command: /Library/Frameworks/R.framework/Resources/bin/R CMD build --keep-empty-dirs --no-resave-data iSEEu StartedAt: 2025-10-12 16:45:59 -0400 (Sun, 12 Oct 2025) EndedAt: 2025-10-12 16:46:42 -0400 (Sun, 12 Oct 2025) EllapsedTime: 43.5 seconds RetCode: 0 Status: OK PackageFile: iSEEu_1.21.0.tar.gz PackageFileSize: 1.62 MiB