Package: iSEEtree Version: 1.5.0 Command: /home/biocbuild/bbs-3.23-bioc/R/bin/R CMD INSTALL iSEEtree StartedAt: 2025-11-26 15:57:49 -0500 (Wed, 26 Nov 2025) EndedAt: 2025-11-26 15:58:38 -0500 (Wed, 26 Nov 2025) EllapsedTime: 48.7 seconds RetCode: 0 Status: OK