Package: iSEEtree Version: 1.5.0 Command: /home/biocbuild/bbs-3.23-bioc/R/bin/R CMD build --keep-empty-dirs --no-resave-data iSEEtree StartedAt: 2025-11-26 18:16:14 -0500 (Wed, 26 Nov 2025) EndedAt: 2025-11-26 18:17:25 -0500 (Wed, 26 Nov 2025) EllapsedTime: 70.1 seconds RetCode: 0 Status: OK PackageFile: iSEEtree_1.5.0.tar.gz PackageFileSize: 7.537 MiB