Package: iSEEpathways Version: 1.7.0 Command: /home/biocbuild/R/R/bin/R CMD INSTALL iSEEpathways StartedAt: 2025-10-20 20:37:57 -0000 (Mon, 20 Oct 2025) EndedAt: 2025-10-20 20:38:41 -0000 (Mon, 20 Oct 2025) EllapsedTime: 43.8 seconds RetCode: 0 Status: OK