Package: iSEEpathways Version: 1.7.0 Command: /home/biocbuild/R/R/bin/R CMD build --keep-empty-dirs --no-resave-data iSEEpathways StartedAt: 2025-10-21 00:41:16 -0000 (Tue, 21 Oct 2025) EndedAt: 2025-10-21 00:44:50 -0000 (Tue, 21 Oct 2025) EllapsedTime: 214.1 seconds RetCode: 0 Status: OK PackageFile: iSEEpathways_1.7.0.tar.gz PackageFileSize: 2.331 MiB