Package: iSEEpathways Version: 1.7.0 Command: /home/biocbuild/bbs-3.22-bioc/R/bin/R CMD check --install=check:iSEEpathways.install-out.txt --library=/home/biocbuild/bbs-3.22-bioc/R/site-library --timings iSEEpathways_1.7.0.tar.gz StartedAt: 2025-10-16 01:34:07 -0400 (Thu, 16 Oct 2025) EndedAt: 2025-10-16 01:40:58 -0400 (Thu, 16 Oct 2025) EllapsedTime: 410.5 seconds RetCode: 0 Status: OK CheckDir: iSEEpathways.Rcheck Warnings: 0