Package: iSEEindex Version: 1.9.0 Command: /home/biocbuild/bbs-3.23-bioc/R/bin/R CMD INSTALL iSEEindex StartedAt: 2025-11-21 15:25:22 -0500 (Fri, 21 Nov 2025) EndedAt: 2025-11-21 15:25:55 -0500 (Fri, 21 Nov 2025) EllapsedTime: 33.7 seconds RetCode: 0 Status: OK