Package: iSEEindex Version: 1.9.0 Command: /home/biocbuild/bbs-3.23-bioc/R/bin/R CMD build --keep-empty-dirs --no-resave-data iSEEindex StartedAt: 2025-11-21 18:15:46 -0500 (Fri, 21 Nov 2025) EndedAt: 2025-11-21 18:16:40 -0500 (Fri, 21 Nov 2025) EllapsedTime: 54.1 seconds RetCode: 0 Status: OK PackageFile: iSEEindex_1.9.0.tar.gz PackageFileSize: 1.377 MiB