Package: iSEEindex Version: 1.9.0 Command: /Library/Frameworks/R.framework/Resources/bin/R CMD INSTALL iSEEindex StartedAt: 2025-11-21 15:30:42 -0500 (Fri, 21 Nov 2025) EndedAt: 2025-11-21 15:31:29 -0500 (Fri, 21 Nov 2025) EllapsedTime: 47.0 seconds RetCode: 0 Status: OK