Package: iSEEindex Version: 1.9.0 Command: /Library/Frameworks/R.framework/Resources/bin/R CMD build --keep-empty-dirs --no-resave-data iSEEindex StartedAt: 2025-11-21 17:27:30 -0500 (Fri, 21 Nov 2025) EndedAt: 2025-11-21 17:28:37 -0500 (Fri, 21 Nov 2025) EllapsedTime: 67.4 seconds RetCode: 0 Status: OK PackageFile: iSEEindex_1.9.0.tar.gz PackageFileSize: 1.377 MiB