Package: iSEEindex Version: 1.9.0 Command: rm -rf iSEEindex.buildbin-libdir && mkdir iSEEindex.buildbin-libdir && /Users/biocbuild/BBS/utils/build-universal.sh iSEEindex_1.9.0.tar.gz /Library/Frameworks/R.framework/Resources/bin/R iSEEindex.buildbin-libdir StartedAt: 2025-11-22 01:39:54 -0500 (Sat, 22 Nov 2025) EndedAt: 2025-11-22 01:40:45 -0500 (Sat, 22 Nov 2025) EllapsedTime: 50.7 seconds RetCode: 0 Status: OK PackageFile: iSEEindex_1.9.0.tgz PackageFileSize: 1.543 MiB