Package: iSEEindex Version: 1.8.0 Command: /Library/Frameworks/R.framework/Resources/bin/R CMD INSTALL iSEEindex StartedAt: 2025-10-29 21:37:05 -0400 (Wed, 29 Oct 2025) EndedAt: 2025-10-29 21:37:19 -0400 (Wed, 29 Oct 2025) EllapsedTime: 13.4 seconds RetCode: 0 Status: OK