Package: iSEEhub Version: 1.13.0 Command: /home/biocbuild/bbs-3.23-bioc/R/bin/R CMD build --keep-empty-dirs --no-resave-data iSEEhub StartedAt: 2025-11-20 18:15:34 -0500 (Thu, 20 Nov 2025) EndedAt: 2025-11-20 18:16:29 -0500 (Thu, 20 Nov 2025) EllapsedTime: 55.0 seconds RetCode: 0 Status: OK PackageFile: iSEEhub_1.13.0.tar.gz PackageFileSize: 6.619 MiB