Package: iSEEhub Version: 1.11.0 Command: /Library/Frameworks/R.framework/Resources/bin/R CMD INSTALL iSEEhub StartedAt: 2025-10-24 15:34:48 -0400 (Fri, 24 Oct 2025) EndedAt: 2025-10-24 15:35:36 -0400 (Fri, 24 Oct 2025) EllapsedTime: 47.8 seconds RetCode: 0 Status: OK