Package: iSEEhub Version: 1.11.0 Command: rm -rf iSEEhub.buildbin-libdir && mkdir iSEEhub.buildbin-libdir && /Users/biocbuild/BBS/utils/build-universal.sh iSEEhub_1.11.0.tar.gz /Library/Frameworks/R.framework/Resources/bin/R iSEEhub.buildbin-libdir StartedAt: 2025-10-25 01:46:02 -0400 (Sat, 25 Oct 2025) EndedAt: 2025-10-25 01:46:55 -0400 (Sat, 25 Oct 2025) EllapsedTime: 52.7 seconds RetCode: 0 Status: OK PackageFile: iSEEhub_1.11.0.tgz PackageFileSize: 3.687 MiB