Package: iSEEhub Version: 1.13.0 Maintainer: Kevin Rue-Albrecht MaintainerEmail: kevinrue67 at gmail.com git_url: https://git.bioconductor.org/packages/iSEEhub git_branch: devel git_last_commit: f5f8921 git_last_commit_date: 2025-10-29 11:18:40 -0500 (Wed, 29 Oct 2025)