Package: iSEEhex Version: 1.13.0 Command: /home/biocbuild/bbs-3.23-bioc/R/bin/R CMD INSTALL iSEEhex StartedAt: 2025-11-20 15:23:57 -0500 (Thu, 20 Nov 2025) EndedAt: 2025-11-20 15:24:30 -0500 (Thu, 20 Nov 2025) EllapsedTime: 32.1 seconds RetCode: 0 Status: OK