Package: iSEEhex Version: 1.13.0 Command: /home/biocbuild/bbs-3.23-bioc/R/bin/R CMD build --keep-empty-dirs --no-resave-data iSEEhex StartedAt: 2025-11-20 18:15:28 -0500 (Thu, 20 Nov 2025) EndedAt: 2025-11-20 18:16:27 -0500 (Thu, 20 Nov 2025) EllapsedTime: 59.0 seconds RetCode: 0 Status: OK PackageFile: iSEEhex_1.13.0.tar.gz PackageFileSize: 486.3 KiB