Package: iSEEhex Version: 1.13.0 Command: /Library/Frameworks/R.framework/Resources/bin/R CMD INSTALL iSEEhex StartedAt: 2025-11-21 15:30:33 -0500 (Fri, 21 Nov 2025) EndedAt: 2025-11-21 15:31:16 -0500 (Fri, 21 Nov 2025) EllapsedTime: 43.1 seconds RetCode: 0 Status: OK