Package: iSEEhex Version: 1.13.0 Command: /Library/Frameworks/R.framework/Resources/bin/R CMD build --keep-empty-dirs --no-resave-data iSEEhex StartedAt: 2025-11-21 17:27:22 -0500 (Fri, 21 Nov 2025) EndedAt: 2025-11-21 17:28:34 -0500 (Fri, 21 Nov 2025) EllapsedTime: 72.0 seconds RetCode: 0 Status: OK PackageFile: iSEEhex_1.13.0.tar.gz PackageFileSize: 486.2 KiB