Package: iSEEhex Version: 1.13.0 Command: rm -rf iSEEhex.buildbin-libdir && mkdir iSEEhex.buildbin-libdir && /Users/biocbuild/BBS/utils/build-universal.sh iSEEhex_1.13.0.tar.gz /Library/Frameworks/R.framework/Resources/bin/R iSEEhex.buildbin-libdir StartedAt: 2025-11-22 01:39:50 -0500 (Sat, 22 Nov 2025) EndedAt: 2025-11-22 01:40:36 -0500 (Sat, 22 Nov 2025) EllapsedTime: 46.1 seconds RetCode: 0 Status: OK PackageFile: iSEEhex_1.13.0.tgz PackageFileSize: 557.5 KiB