Package: iSEEhex Version: 1.13.0 Command: /Library/Frameworks/R.framework/Resources/bin/R CMD INSTALL iSEEhex StartedAt: 2025-11-20 15:15:06 -0500 (Thu, 20 Nov 2025) EndedAt: 2025-11-20 15:15:19 -0500 (Thu, 20 Nov 2025) EllapsedTime: 13.2 seconds RetCode: 0 Status: OK