Package: iSEEhex Version: 1.13.0 Command: /Library/Frameworks/R.framework/Resources/bin/R CMD build --keep-empty-dirs --no-resave-data iSEEhex StartedAt: 2025-11-20 16:44:28 -0500 (Thu, 20 Nov 2025) EndedAt: 2025-11-20 16:44:52 -0500 (Thu, 20 Nov 2025) EllapsedTime: 24.3 seconds RetCode: 0 Status: OK PackageFile: iSEEhex_1.13.0.tar.gz PackageFileSize: 486.3 KiB