Package: iSEEhex Version: 1.13.0 Command: rm -rf iSEEhex.buildbin-libdir && mkdir iSEEhex.buildbin-libdir && /Users/biocbuild/BBS/utils/build-universal.sh iSEEhex_1.13.0.tar.gz /Library/Frameworks/R.framework/Resources/bin/R iSEEhex.buildbin-libdir StartedAt: 2025-11-20 23:38:02 -0500 (Thu, 20 Nov 2025) EndedAt: 2025-11-20 23:38:19 -0500 (Thu, 20 Nov 2025) EllapsedTime: 16.3 seconds RetCode: 0 Status: OK PackageFile: iSEEhex_1.13.0.tgz PackageFileSize: 557.9 KiB