Package: iSEEfier Version: 1.7.0 Command: /home/biocbuild/bbs-3.23-bioc/R/bin/R CMD INSTALL iSEEfier StartedAt: 2025-11-20 15:25:06 -0500 (Thu, 20 Nov 2025) EndedAt: 2025-11-20 15:25:37 -0500 (Thu, 20 Nov 2025) EllapsedTime: 30.6 seconds RetCode: 0 Status: OK