Package: iSEEfier Version: 1.7.0 Command: /home/biocbuild/bbs-3.23-bioc/R/bin/R CMD build --keep-empty-dirs --no-resave-data iSEEfier StartedAt: 2025-11-20 18:15:24 -0500 (Thu, 20 Nov 2025) EndedAt: 2025-11-20 18:16:39 -0500 (Thu, 20 Nov 2025) EllapsedTime: 75.1 seconds RetCode: 0 Status: OK PackageFile: iSEEfier_1.7.0.tar.gz PackageFileSize: 593.7 KiB