Package: iSEEfier Version: 1.5.0 Command: /Library/Frameworks/R.framework/Resources/bin/R CMD INSTALL iSEEfier StartedAt: 2025-10-28 15:29:21 -0400 (Tue, 28 Oct 2025) EndedAt: 2025-10-28 15:30:01 -0400 (Tue, 28 Oct 2025) EllapsedTime: 39.8 seconds RetCode: 0 Status: OK