Package: iSEEfier Version: 1.5.0 Command: /Library/Frameworks/R.framework/Resources/bin/R CMD build --keep-empty-dirs --no-resave-data iSEEfier StartedAt: 2025-10-28 17:28:07 -0400 (Tue, 28 Oct 2025) EndedAt: 2025-10-28 17:29:34 -0400 (Tue, 28 Oct 2025) EllapsedTime: 86.7 seconds RetCode: 0 Status: OK PackageFile: iSEEfier_1.5.0.tar.gz PackageFileSize: 591.6 KiB